BEGIN:VCALENDAR
VERSION:2.0
PRODID:-//207.180.228.168//NONSGML kigkonsult.se iCalcreator 2.26.9//
CALSCALE:GREGORIAN
METHOD:PUBLISH
X-WR-CALNAME:FIDE Arbiters&#039\; Commission
X-WR-CALDESC:
X-FROM-URL:https://arbiters.fide.com
X-WR-TIMEZONE:Europe/Paris
BEGIN:VTIMEZONE
TZID:Europe/Paris
X-LIC-LOCATION:Europe/Paris
BEGIN:STANDARD
DTSTART:20251026T030000
TZOFFSETFROM:+0200
TZOFFSETTO:+0100
RDATE:20261025T030000
TZNAME:CET
END:STANDARD
BEGIN:DAYLIGHT
DTSTART:20260329T020000
TZOFFSETFROM:+0100
TZOFFSETTO:+0200
RDATE:20270328T020000
TZNAME:CEST
END:DAYLIGHT
END:VTIMEZONE
BEGIN:VEVENT
UID:ai1ec-9620@arbiters.fide.com
DTSTAMP:20260419T174504Z
CATEGORIES;LANGUAGE=en-US:FA Seminar\,FA Seminar ENG\,Training
CONTACT:
DESCRIPTION:A FIDE Arbiters’ Seminar is going to be organized from 06/01/20
 25 to 10/01/2025 in Melbourne\, by the Chess Victoria Inc (CV) and Austral
 ian Chess Federation\, under the auspices of FIDE.\nThe Lecturer will be I
 A Tsai\, Peter (AUS)\, FIDE Lecturer.\nThe language of the Seminar will be
  English.\nThe Seminar will give norms and titles of FIDE Arbiter\, accord
 ing to the Regulations for the titles of Arbiters.\nSchedule:\nMonday 6th 
 January 2025\n9:00-13:00 Laws of Chess (including Rapid\, Blitz)\nTuesday 
 7th January 2025\n9:00 – 11:00 Swiss System and Pairings Rules\n11:00 – 13
 :00 Competition Rules and standards of chess equipment\nWednesday 8th Janu
 ary 2025\n9:00 -10:30 System of Games\, tie breaks\n10:30 – 12:00 Anti‐che
 ating guidelines for Arbiters\n12:00 – 13:00 Use of Electronic Clocks\nThu
 rsday 9th January 2025\n9:00 -11:00 Regulations for the rating and the ove
 r‐the‐board titles\n11:00 – 12:00 Regulations for the titles of the Arbite
 rs\n12:00 – 13:00 Conduct of Players and Arbiters\nFriday 10th January 202
 5\n9:00 – 13:00 Exam
DTSTART;VALUE=DATE:20250106
DTEND;VALUE=DATE:20250111
GEO:-37.914504;+145.098269
LOCATION:Huntingdale Golf Club @ Windsor Ave\, Oakleigh South VIC 3167\, Au
 stralia
SEQUENCE:0
SUMMARY:FIDE Arbiters’ Seminar in Melbourne 2025 (AUS)
URL:https://arbiters.fide.com/news/event/fide-arbiters-seminar-in-melbourne
 -2025-aus
X-COST-TYPE:free
X-ALT-DESC;FMTTYPE=text/html:<!DOCTYPE HTML PUBLIC '-//W3C//DTD HTML 3.2//E
 N'>\\n<HTML>\\n<HEAD>\\n<TITLE></TITLE>\\n</HEAD>\\n<BODY><p>A FIDE Arbite
 rs’ Seminar is going to be organized from 06/01/2025 to 10/01/2025 in Melb
 ourne\, by the Chess Victoria Inc (CV) and Australian Chess Federation\, u
 nder the auspices of FIDE.</p>\n<p>The Lecturer will be IA Tsai\, Peter (A
 US)\, FIDE Lecturer.</p>\n<p>The language of the Seminar will be English.<
 /p>\n<p>The Seminar will give norms and titles of FIDE Arbiter\, according
  to the Regulations for the titles of Arbiters.</p>\n<p><strong>Schedule:<
 /strong></p>\n<p><strong>Monday 6th January 2025</strong><br />\n9:00-13:0
 0 Laws of Chess (including Rapid\, Blitz)</p>\n<p><strong>Tuesday 7th Janu
 ary 2025</strong><br />\n9:00 – 11:00 Swiss System and Pairings Rules<br /
 >\n11:00 – 13:00 Competition Rules and standards of chess equipment</p>\n<
 p><strong>Wednesday 8th January 2025</strong><br />\n9:00 -10:30 System of
  Games\, tie breaks<br />\n10:30 – 12:00 Anti‐cheating guidelines for Arbi
 ters<br />\n12:00 – 13:00 Use of Electronic Clocks</p>\n<p><strong>Thursda
 y 9th January 2025</strong><br />\n9:00 -11:00 Regulations for the rating 
 and the over‐the‐board titles<br />\n11:00 – 12:00 Regulations for the tit
 les of the Arbiters<br />\n12:00 – 13:00 Conduct of Players and Arbiters</
 p>\n<p><strong>Friday 10th January 2025</strong><br />\n9:00 – 13:00 Exam<
 /p>\n</BODY></HTML>
X-TAGS;LANGUAGE=en-US:English
X-COST:A$200
END:VEVENT
END:VCALENDAR
